BEGIN:VCALENDAR
VERSION:2.0
PRODID:-//Green Mountain Horse Association - ECPv6.15.20//NONSGML v1.0//EN
CALSCALE:GREGORIAN
METHOD:PUBLISH
X-ORIGINAL-URL:https://gmhainc.org
X-WR-CALDESC:Events for Green Mountain Horse Association
REFRESH-INTERVAL;VALUE=DURATION:PT1H
X-Robots-Tag:noindex
X-PUBLISHED-TTL:PT1H
BEGIN:VTIMEZONE
TZID:America/New_York
BEGIN:DAYLIGHT
TZOFFSETFROM:-0500
TZOFFSETTO:-0400
TZNAME:EDT
DTSTART:20250309T070000
END:DAYLIGHT
BEGIN:STANDARD
TZOFFSETFROM:-0400
TZOFFSETTO:-0500
TZNAME:EST
DTSTART:20251102T060000
END:STANDARD
BEGIN:DAYLIGHT
TZOFFSETFROM:-0500
TZOFFSETTO:-0400
TZNAME:EDT
DTSTART:20260308T070000
END:DAYLIGHT
BEGIN:STANDARD
TZOFFSETFROM:-0400
TZOFFSETTO:-0500
TZNAME:EST
DTSTART:20261101T060000
END:STANDARD
BEGIN:DAYLIGHT
TZOFFSETFROM:-0500
TZOFFSETTO:-0400
TZNAME:EDT
DTSTART:20270314T070000
END:DAYLIGHT
BEGIN:STANDARD
TZOFFSETFROM:-0400
TZOFFSETTO:-0500
TZNAME:EST
DTSTART:20271107T060000
END:STANDARD
END:VTIMEZONE
BEGIN:VEVENT
DTSTART;VALUE=DATE:20260419
DTEND;VALUE=DATE:20260420
DTSTAMP:20260419T221426
CREATED:20260109T212146Z
LAST-MODIFIED:20260322T130456Z
UID:10000003-1776556800-1776643199@gmhainc.org
SUMMARY:Mud Ride
DESCRIPTION:A fun Competitive Trail Ride (CTR) and Conditioning Distance Ride (CDR) to ease into conditioning you and your horse for the 2026 trail riding season. These rides are over  marked courses of scenic\,quiet dirt roads with  few pavement crossings. The Mud Ride is sanctioned by ECTRA with the following distances and recognized by the New England Horse and Trail Association. \n\n25 Miles (CTR)\n15 Miles (CDR)\n10 Miles (CDR)\n5 Mile Pleasure Ride\n\nThis Mud Ride will offer “Day of Entries” with a post entry fee of $30.00 \nIf you are new to competitive trail\, this is a great place to begin your journey into this discipline. Learn more about the sport at www.ectra.orgThe Mud Ride distances are registered with the New England Horse and Trail Association\, sign up forms will be available at the briefing.
URL:https://gmhainc.org/event/mud-ride/
LOCATION:VT
CATEGORIES:Competitive Trail & Endurance
ATTACH;FMTTYPE=image/jpeg:https://gmhainc.org/wp-content/uploads/2026/01/Nancy-Barci_Psynammons-Reily-Rhonda-Batchelder_SteelPiece-One-Nigt-Only-scaled.jpg
END:VEVENT
BEGIN:VEVENT
DTSTART;VALUE=DATE:20260428
DTEND;VALUE=DATE:20260429
DTSTAMP:20260419T221426
CREATED:20260127T194708Z
LAST-MODIFIED:20260304T131133Z
UID:10000071-1777334400-1777420799@gmhainc.org
SUMMARY:Wheel Runners Driving Clinic - April
DESCRIPTION:Wheel Runners is a monthly “group” driving lesson series with Robin Groves.\n\nA full day entry is two\, one-hour lessons. Typically\, dressage is in the morning and a cones lesson in the afternoon.\n2026 Dates: Apr 28 • May 19 • Jun 16 • June 30 • July 28 • Sept 15 • Oct 20\nNot a GMHA Member? Join TODAY at https://gmhainc.org/membership/\n\nPrerequisites:\nClinic is for experienced drivers only who can hitch on their own. \n\nNot recommended for green drivers and horses.\nConsider auditing if you have questions on your horse’s abilities or if you are new to the discipline.\nEntries must be received by the Friday before each clinic date. Entry form is fill-able (electronic)\nSessions may be combined if entries are low.\nYou will be notified on Monday by email of any schedule changes.\nIf you have not driven with Robin before\, please contact her before entering at (802) 484-5016.
URL:https://gmhainc.org/event/wheel-runners-driving-clinic-april/
LOCATION:Green Mountain Horse Association\, 5491 South Road\, South Woodstock\, VT\, 05071\, United States
CATEGORIES:Clinics,Education,Wheel Runners Clinics
ATTACH;FMTTYPE=image/jpeg:https://gmhainc.org/wp-content/uploads/2026/01/8X0A0013.jpg
GEO:43.5571717;-72.5373015
X-APPLE-STRUCTURED-LOCATION;VALUE=URI;X-ADDRESS=Green Mountain Horse Association 5491 South Road South Woodstock VT 05071 United States;X-APPLE-RADIUS=500;X-TITLE=5491 South Road:geo:-72.5373015,43.5571717
END:VEVENT
END:VCALENDAR